BEGIN:VCALENDAR
VERSION:2.0
PRODID:-//BC Bricklayers and Allied Craftworkers, Local 2 - ECPv6.15.20//NONSGML v1.0//EN
CALSCALE:GREGORIAN
METHOD:PUBLISH
X-WR-CALNAME:BC Bricklayers and Allied Craftworkers, Local 2
X-ORIGINAL-URL:https://blog.bac2bc.org
X-WR-CALDESC:Events for BC Bricklayers and Allied Craftworkers, Local 2
REFRESH-INTERVAL;VALUE=DURATION:PT1H
X-Robots-Tag:noindex
X-PUBLISHED-TTL:PT1H
BEGIN:VTIMEZONE
TZID:America/Vancouver
BEGIN:DAYLIGHT
TZOFFSETFROM:-0800
TZOFFSETTO:-0700
TZNAME:PDT
DTSTART:20170312T100000
END:DAYLIGHT
BEGIN:STANDARD
TZOFFSETFROM:-0700
TZOFFSETTO:-0800
TZNAME:PST
DTSTART:20171105T090000
END:STANDARD
BEGIN:DAYLIGHT
TZOFFSETFROM:-0800
TZOFFSETTO:-0700
TZNAME:PDT
DTSTART:20180311T100000
END:DAYLIGHT
BEGIN:STANDARD
TZOFFSETFROM:-0700
TZOFFSETTO:-0800
TZNAME:PST
DTSTART:20181104T090000
END:STANDARD
BEGIN:DAYLIGHT
TZOFFSETFROM:-0800
TZOFFSETTO:-0700
TZNAME:PDT
DTSTART:20190310T100000
END:DAYLIGHT
BEGIN:STANDARD
TZOFFSETFROM:-0700
TZOFFSETTO:-0800
TZNAME:PST
DTSTART:20191103T090000
END:STANDARD
END:VTIMEZONE
BEGIN:VEVENT
DTSTART;TZID=America/Vancouver:20181107T190000
DTEND;TZID=America/Vancouver:20181107T210000
DTSTAMP:20260424T052059
CREATED:20181107T072010Z
LAST-MODIFIED:20181107T074204Z
UID:311-1541617200-1541624400@blog.bac2bc.org
SUMMARY:Victoria Chapter Meeting
DESCRIPTION:Bargaining Update\, Member Discussion\, Current Issues \n 
URL:https://blog.bac2bc.org/event/victoria-chapter-meeting/
LOCATION:Quality Inn Harbourside Victoria\, 850 Blanshard St\, Victoria\, BC\, Canada
CATEGORIES:Chapter Meetings
ORGANIZER;CN="IUBAC Local 2 BC/Yukon":MAILTO:info@bac2bc.org
END:VEVENT
BEGIN:VEVENT
DTSTART;TZID=America/Vancouver:20181105T080000
DTEND;TZID=America/Vancouver:20181109T170000
DTSTAMP:20260424T052100
CREATED:20181029T224440Z
LAST-MODIFIED:20181107T074327Z
UID:293-1541404800-1541782800@blog.bac2bc.org
SUMMARY:Level Three Brick
DESCRIPTION:Level three bricklayer technical training.  Starts Monday Nov 5 until Friday Dec 14 2018.  Call now for registration details.  Class booking up quickly.
URL:https://blog.bac2bc.org/event/level-three-brick-2/
LOCATION:Trowel Trades Training Center\, 12309 Industrial Rd.\, Surrey\, B.C.\, V3V 3S4\, Canada
CATEGORIES:Craft Training,Masonry Craft Training
ORGANIZER;CN="TTTA":MAILTO:info@bac2bc.org
END:VEVENT
BEGIN:VEVENT
DTSTART;TZID=America/Vancouver:20181101T080000
DTEND;TZID=America/Vancouver:20181102T160000
DTSTAMP:20260424T052100
CREATED:20181029T224905Z
LAST-MODIFIED:20181029T224905Z
UID:295-1541059200-1541174400@blog.bac2bc.org
SUMMARY:Forklift Training
DESCRIPTION:Take Counterbalance one day and rough terrain the other day.  Training on both thursday and friday.  Contact 1-855-584-2021. \nEach course $250 each.  Members reimbursed.
URL:https://blog.bac2bc.org/event/forklift-training/
LOCATION:Trowel Trades Training Center\, 12309 Industrial Rd.\, Surrey\, B.C.\, V3V 3S4\, Canada
CATEGORIES:Equipment Training
ORGANIZER;CN="TTTA":MAILTO:info@bac2bc.org
END:VEVENT
BEGIN:VEVENT
DTSTART;TZID=America/Vancouver:20181019T100000
DTEND;TZID=America/Vancouver:20181019T110000
DTSTAMP:20260424T052100
CREATED:20181012T045007Z
LAST-MODIFIED:20181012T045631Z
UID:257-1539943200-1539946800@blog.bac2bc.org
SUMMARY:MP Sarai Visits Training Center
DESCRIPTION:Join us at 10:00 A.M. at the training center while we unveil our new rough terrain forklift and genie lift to be used to train union members in our “Ready to Work” project.  The Government of Canada responded to our grant application with approval of over $400\,000.00 in funding to match BAC Local 2 and OPCMIA Local 919 training investments.  Gunite and Brokk to follow.  The local constituency Member of Parliament is Randeep Sarai who will be there for delivery.  Come down and kick the tires with the rest of us.  Light refreshments and snacks.
URL:https://blog.bac2bc.org/event/mp-sarai-visits-training-center-for-unveiling-of-new-compact-rough-terrain-forklift-funded-50-50-with-employment-and-skills-development-canada/
LOCATION:Trowel Trades Training Center\, 12309 Industrial Rd.\, Surrey\, B.C.\, V3V 3S4\, Canada
CATEGORIES:Equipment Training
ORGANIZER;CN="IUBAC Local 2 BC/Yukon":MAILTO:info@bac2bc.org
END:VEVENT
BEGIN:VEVENT
DTSTART;TZID=America/Vancouver:20181015T080000
DTEND;TZID=America/Vancouver:20181019T153000
DTSTAMP:20260424T052100
CREATED:20180827T205859Z
LAST-MODIFIED:20180827T205859Z
UID:161-1539590400-1539963000@blog.bac2bc.org
SUMMARY:Brick 1/2 Week Six
DESCRIPTION:Week Six of Six  Final Practical and ITA Level Exam \nFall level 1/2 split Apprenticeship Technical Training for Bricklayer.  Join Our Experienced Instructor and work your way to your Red Seal Certification.
URL:https://blog.bac2bc.org/event/brick-1-2-week-six/
LOCATION:Trowel Trades Training Center\, 12309 Industrial Rd.\, Surrey\, B.C.\, V3V 3S4\, Canada
ORGANIZER;CN="TTTA":MAILTO:info@bac2bc.org
END:VEVENT
BEGIN:VEVENT
DTSTART;TZID=America/Vancouver:20181009T080000
DTEND;TZID=America/Vancouver:20181012T153000
DTSTAMP:20260424T052100
CREATED:20180827T204518Z
LAST-MODIFIED:20180827T205718Z
UID:148-1539072000-1539358200@blog.bac2bc.org
SUMMARY:Brick 1/2 Week Five
DESCRIPTION:Week Five of Six \nLevel 1/2 split Apprenticeship Technical Training for Bricklayer.  Join Our Experienced Instructor and work your way to your Red Seal Certification.
URL:https://blog.bac2bc.org/event/brick-l-1-2-week-five-of-six/
LOCATION:B.C.
ORGANIZER;CN="TTTA":MAILTO:info@bac2bc.org
END:VEVENT
BEGIN:VEVENT
DTSTART;TZID=America/Vancouver:20181001T080000
DTEND;TZID=America/Vancouver:20181005T153000
DTSTAMP:20260424T052100
CREATED:20180827T204202Z
LAST-MODIFIED:20180827T205621Z
UID:146-1538380800-1538753400@blog.bac2bc.org
SUMMARY:Brick 1/2 Week Four
DESCRIPTION:Week Four of Six \nLevel 1/2 split\, Apprenticeship Technical Training for Bricklayer.  Join Our Experienced Instructor and work your way to your Red Seal Certification.
URL:https://blog.bac2bc.org/event/brick-mason-l-1-2-week-four/
LOCATION:Trowel Trades Training Center\, 12309 Industrial Rd.\, Surrey\, B.C.\, V3V 3S4\, Canada
ORGANIZER;CN="TTTA":MAILTO:info@bac2bc.org
END:VEVENT
BEGIN:VEVENT
DTSTART;TZID=America/Vancouver:20180924T080000
DTEND;TZID=America/Vancouver:20180928T153000
DTSTAMP:20260424T052100
CREATED:20180827T203925Z
LAST-MODIFIED:20180827T205519Z
UID:144-1537776000-1538148600@blog.bac2bc.org
SUMMARY:Brick 1/2 Week Three
DESCRIPTION:Week Three of Six \nLevel 1/2 split Apprenticeship Technical Training for Bricklayer.  Join Our Experienced Instructor and work your way to your Red Seal Certification.
URL:https://blog.bac2bc.org/event/brick-mason-l-1-2-week-three/
LOCATION:Trowel Trades Training Center\, 12309 Industrial Rd.\, Surrey\, B.C.\, V3V 3S4\, Canada
ORGANIZER;CN="TTTA":MAILTO:info@bac2bc.org
END:VEVENT
BEGIN:VEVENT
DTSTART;TZID=America/Vancouver:20180917T093000
DTEND;TZID=America/Vancouver:20180917T110000
DTSTAMP:20260424T052100
CREATED:20180917T180833Z
LAST-MODIFIED:20180917T180833Z
UID:233-1537176600-1537182000@blog.bac2bc.org
SUMMARY:VSB Labour Management Meeting
DESCRIPTION:0930 at Vancouver School Board Offices
URL:https://blog.bac2bc.org/event/vsb-labour-management-meeting/
LOCATION:B.C.
CATEGORIES:Union-Management Meetings
END:VEVENT
BEGIN:VEVENT
DTSTART;TZID=America/Vancouver:20180917T090000
DTEND;TZID=America/Vancouver:20180917T120000
DTSTAMP:20260424T052100
CREATED:20180827T201211Z
LAST-MODIFIED:20180827T201211Z
UID:137-1537174800-1537185600@blog.bac2bc.org
SUMMARY:Bricklayers' Trustees' Meeting
DESCRIPTION:Semi Annual Bricklayers’ Pension Trustees and Bricklayers’\, Masons’ and Tilesetters’ Health and Welfare Plan Trustees Meeting.
URL:https://blog.bac2bc.org/event/bricklayers-trustees-meeting/
LOCATION:DA Townley & Associates\, 4250 Canada Way\, Burnaby\, British Columbia\, V5G 4W6\, Canada
ORGANIZER;CN="Pension Trustees-DA Townley":MAILTO:askus@datownley.com
END:VEVENT
BEGIN:VEVENT
DTSTART;TZID=America/Vancouver:20180917T080000
DTEND;TZID=America/Vancouver:20180921T153000
DTSTAMP:20260424T052100
CREATED:20180827T203603Z
LAST-MODIFIED:20180827T205437Z
UID:141-1537171200-1537543800@blog.bac2bc.org
SUMMARY:Brick 1/2 Week Two
DESCRIPTION:Week Two of Six \nLevel 1/2 split\, Apprenticeship Technical Training for Bricklayer.  Join Our Experienced Instructor and work your way to your Red Seal Certification. \n 
URL:https://blog.bac2bc.org/event/bricklayer-level-1-2-week-two/
LOCATION:Trowel Trades Training Center\, 12309 Industrial Rd.\, Surrey\, B.C.\, V3V 3S4\, Canada
ORGANIZER;CN="TTTA":MAILTO:info@bac2bc.org
END:VEVENT
BEGIN:VEVENT
DTSTART;TZID=America/Vancouver:20180913T090000
DTEND;TZID=America/Vancouver:20180913T120000
DTSTAMP:20260424T052100
CREATED:20180827T200853Z
LAST-MODIFIED:20180827T200942Z
UID:133-1536829200-1536840000@blog.bac2bc.org
SUMMARY:VSB Trade Talks
DESCRIPTION:Vancouver School Board Labour Management Meeting.
URL:https://blog.bac2bc.org/event/vsb-trade-talks/
LOCATION:Vancouver School Board\, 1580 West Broadway\, Vancouver\, British Columbia\, V6J 5K8\, Canada
ORGANIZER;CN="Vancouver School Board":MAILTO:info@vsb.bc.ca
END:VEVENT
BEGIN:VEVENT
DTSTART;TZID=America/Vancouver:20180910T080000
DTEND;TZID=America/Vancouver:20180914T033000
DTSTAMP:20260424T052100
CREATED:20180808T012127Z
LAST-MODIFIED:20180827T231718Z
UID:101-1536566400-1536895800@blog.bac2bc.org
SUMMARY:Brick 1/2\, Week 1
DESCRIPTION:Week One of Six \nLevel 1/2\,  Apprenticeship Technical Training for Bricklayer.  Join Our Experienced Instructor and work your way to your Red Seal Certification.  Monday to Friday for Six weeks. \nCourse costs are: \nCourse Registration Fee:          $ 870.00                                                                      Masonry Text Book Cost:          $ 155.00                                                                            Math Text Book Cost:                  $  70.00                                                                                                                         Total:                 $1095.00 \nSee Attached “Registration” Form for Deposits and Deadlines. \nClick “Here” to view the National Occupational Analysis for Bricklayer 2016\, the basis for your technical training and Inter Provincial Red Seal Examination Questions. \nClick “Here” to view the BC Industry Training Authority Certification Guidelines and Program Outline for Bricklayer which is what this training is based on. \n \n  \n 
URL:https://blog.bac2bc.org/event/bricklayer-level-1-2-split-technical-training/
LOCATION:Trowel Trades Training Center\, 12309 Industrial Rd.\, Surrey\, B.C.\, V3V 3S4\, Canada
CATEGORIES:Masonry Craft Training
ORGANIZER;CN="TTTA":MAILTO:info@bac2bc.org
END:VEVENT
BEGIN:VEVENT
DTSTART;TZID=America/Vancouver:20180907T080000
DTEND;TZID=America/Vancouver:20180907T140000
DTSTAMP:20260424T052100
CREATED:20180828T231151Z
LAST-MODIFIED:20180906T001827Z
UID:197-1536307200-1536328800@blog.bac2bc.org
SUMMARY:Hydro Mobile E & D (Postponed)
DESCRIPTION:AGF Access teaching members Erection and Dismantling of the P-Series Hydro Mobile Mast Climbing Scaffold. \nThis E & D course is postponed until a later date. \nThis machinery is already everywhere on the job.  Notify the union hall if you are interested in the training.
URL:https://blog.bac2bc.org/event/hydro-mobile-e-d/
LOCATION:B.C.
CATEGORIES:Equipment Training
ATTACH;FMTTYPE=image/jpeg:https://blog.bac2bc.org/wp-content/uploads/2018/08/hydro-mobile-with-block-and-brick-in-background.jpg
END:VEVENT
BEGIN:VEVENT
DTSTART;TZID=America/Vancouver:20180906T170000
DTEND;TZID=America/Vancouver:20180906T190000
DTSTAMP:20260424T052100
CREATED:20180827T200058Z
LAST-MODIFIED:20180827T205231Z
UID:129-1536253200-1536260400@blog.bac2bc.org
SUMMARY:Tile Pension Trustees
DESCRIPTION:The Fall Meeting of the Ceramic Tilesetters’ Pension Trustees.
URL:https://blog.bac2bc.org/event/tile-pension-trustees/
LOCATION:DA Townley & Associates\, 4250 Canada Way\, Burnaby\, British Columbia\, V5G 4W6\, Canada
ORGANIZER;CN="Pension Trustees-DA Townley":MAILTO:askus@datownley.com
END:VEVENT
BEGIN:VEVENT
DTSTART;VALUE=DATE:20180903
DTEND;VALUE=DATE:20180904
DTSTAMP:20260424T052100
CREATED:20180827T230434Z
LAST-MODIFIED:20180827T230550Z
UID:186-1535932800-1536019199@blog.bac2bc.org
SUMMARY:Labour Day
DESCRIPTION:This is absolutely a day off.  Go to your favourite Labour Day Picnic or Event.  Go to your favourite fishing hole.  But just enjoy the entire weekend.  Union Folks fought hard for this day. \nLink to “2018 Statutory Holidays” \n 
URL:https://blog.bac2bc.org/event/labour-day/
LOCATION:B.C.
ORGANIZER;CN="IUBAC Local 2 BC/Yukon":MAILTO:info@bac2bc.org
END:VEVENT
BEGIN:VEVENT
DTSTART;VALUE=DATE:20180831
DTEND;VALUE=DATE:20180901
DTSTAMP:20260424T052100
CREATED:20180827T224400Z
LAST-MODIFIED:20180827T230203Z
UID:179-1535673600-1535759999@blog.bac2bc.org
SUMMARY:Statutory Holiday-Friday Before Labour Day
DESCRIPTION:This is a stat holiday for all industrial work and is payable at overtime rates.  Under the Commercial-Institutional Agreements the Friday before Labour day can be floated to another day in the week.  Straight time rates are payable if the Friday is worked. \nLink to “2018 Statutory Holidays” \n 
URL:https://blog.bac2bc.org/event/statutory-holiday-friday-before-labour-day/
LOCATION:B.C.
ORGANIZER;CN="IUBAC Local 2 BC/Yukon":MAILTO:info@bac2bc.org
END:VEVENT
BEGIN:VEVENT
DTSTART;TZID=America/Vancouver:20180817T080000
DTEND;TZID=America/Vancouver:20180817T170000
DTSTAMP:20260424T052100
CREATED:20180806T191554Z
LAST-MODIFIED:20180816T210248Z
UID:85-1534492800-1534525200@blog.bac2bc.org
SUMMARY:Spec Mix Bricklayer 500
DESCRIPTION:Join us again for the Annual Bricklayer Spec Mix Bricklayer 500 Regional Competition at our training center in Surrey.  Winners go to Vegas for the final. \nSet Up Day for the Bricklayer 500
URL:https://blog.bac2bc.org/event/spec-mix-bricklayer-500/
LOCATION:Trowel Trades Training Center\, 12309 Industrial Rd.\, Surrey\, B.C.\, V3V 3S4\, Canada
ATTACH;FMTTYPE=image/jpeg:https://blog.bac2bc.org/wp-content/uploads/2018/08/DHop3nHU0AAkh2y-2.jpg
END:VEVENT
END:VCALENDAR